BEGIN:VCALENDAR
VERSION:2.0
PRODID:-//eventon.com NONSGML v1.0//EN
CALSCALE:GREGORIAN
METHOD:PUBLISH
BEGIN:VEVENT
UID:69e63053bbd55
DTSTAMP:20260420T155531
DTSTART:20240810T120000Z
DTEND:20240810T160000Z
TZID:Europe/Berlin
LOCATION:
SUMMARY:Kinderfest mit der freiwilligen Feuerwehr Seckbach
DESCRIPTION:Samstag und Sonntag veranstaltet die freiwillige Feuerwehr Seckbach jeweils von 12:00 bis 16:00 Uhr ein Kinderfest für unsere jungen (und junggebliebenen) Gäste. Kommt vorbei! Das volle Programm findet ihr hier: bernemerkerb.de/programm/\nhttps://www.bernemerkerb.de/events/kinderfest-mit-der-freiwilligen-feuerwehr-seckbach-4/
URL:https://www.bernemerkerb.de/events/kinderfest-mit-der-freiwilligen-feuerwehr-seckbach-4/
END:VEVENT
END:VCALENDAR