BEGIN:VCALENDAR
VERSION:2.0
PRODID:-//eventon.com NONSGML v1.0//EN
CALSCALE:GREGORIAN
METHOD:PUBLISH
BEGIN:VEVENT
UID:69e5ef99253ac
DTSTAMP:20260420T111921
DTSTART:20240901T170000Z
DTEND:20240901T180000Z
TZID:Europe/Berlin
LOCATION:
SUMMARY:Vorstandssitzung
DESCRIPTION:Der Vorstand der BKG tagt gewöhnlich einmal im Monat um aktuelle Themen rund um den Verein zu besprechen und die nächsten Monate des Vereinslebens zu planen. Die Sitzung ist öffentlich\,  Gäste sind herzlich wilkommen.\nhttps://www.bernemerkerb.de/events/vorstandssitzung-15/
URL:https://www.bernemerkerb.de/events/vorstandssitzung-15/
END:VEVENT
END:VCALENDAR