BEGIN:VCALENDAR
VERSION:2.0
PRODID:-//eventon.com NONSGML v1.0//EN
CALSCALE:GREGORIAN
METHOD:PUBLISH
BEGIN:VEVENT
UID:69e5f0736bda0
DTSTAMP:20260420T112259
DTSTART:20240211T141100Z
DTEND:20240211T235000Z
TZID:Europe/Berlin
LOCATION:
SUMMARY:Großer Frankfurt Fastnachtsumzug
DESCRIPTION:Am großen Frankfurter Fastnachtsumzug nehmen wir als Kerb immer teil. &nbsp; Mit Festwagen und Brunnenwagen geht´s durch den Zug. Da dies für viele zur anstrengend ist\,  treffen sich die restlichen Mitglieder zum gemeinsamen Zugschauen.\nhttps://www.bernemerkerb.de/events/grosser-frankfurt-fastnachtsumzug-2/
URL:https://www.bernemerkerb.de/events/grosser-frankfurt-fastnachtsumzug-2/
END:VEVENT
END:VCALENDAR